BEGIN:VCALENDAR
VERSION:2.0
PRODID:-//Orange County Cursillo - ECPv6.15.15//NONSGML v1.0//EN
CALSCALE:GREGORIAN
METHOD:PUBLISH
X-ORIGINAL-URL:https://occursillo.org
X-WR-CALDESC:Events for Orange County Cursillo
REFRESH-INTERVAL;VALUE=DURATION:PT1H
X-Robots-Tag:noindex
X-PUBLISHED-TTL:PT1H
BEGIN:VTIMEZONE
TZID:America/Los_Angeles
BEGIN:DAYLIGHT
TZOFFSETFROM:-0800
TZOFFSETTO:-0700
TZNAME:PDT
DTSTART:20220313T100000
END:DAYLIGHT
BEGIN:STANDARD
TZOFFSETFROM:-0700
TZOFFSETTO:-0800
TZNAME:PST
DTSTART:20221106T090000
END:STANDARD
BEGIN:DAYLIGHT
TZOFFSETFROM:-0800
TZOFFSETTO:-0700
TZNAME:PDT
DTSTART:20230312T100000
END:DAYLIGHT
BEGIN:STANDARD
TZOFFSETFROM:-0700
TZOFFSETTO:-0800
TZNAME:PST
DTSTART:20231105T090000
END:STANDARD
BEGIN:DAYLIGHT
TZOFFSETFROM:-0800
TZOFFSETTO:-0700
TZNAME:PDT
DTSTART:20240310T100000
END:DAYLIGHT
BEGIN:STANDARD
TZOFFSETFROM:-0700
TZOFFSETTO:-0800
TZNAME:PST
DTSTART:20241103T090000
END:STANDARD
END:VTIMEZONE
BEGIN:VEVENT
DTSTART;TZID=America/Los_Angeles:20230715T173000
DTEND;TZID=America/Los_Angeles:20230715T203000
DTSTAMP:20260424T051112
CREATED:20230613T211449Z
LAST-MODIFIED:20260224T161441Z
UID:11057-1689442200-1689453000@occursillo.org
SUMMARY:Pre-Auction BBQ
DESCRIPTION:
URL:https://occursillo.org/event/pre-auction-bbq/
LOCATION:John Baptista Residence\, 1475 Jamestown Way\, Orange\, CA\, 92669\, United States
CATEGORIES:Pre-Auction Fundraiser
END:VEVENT
BEGIN:VEVENT
DTSTART;TZID=America/Los_Angeles:20230624T180000
DTEND;TZID=America/Los_Angeles:20230624T210000
DTSTAMP:20260424T051112
CREATED:20230426T042211Z
LAST-MODIFIED:20260224T162706Z
UID:10984-1687629600-1687640400@occursillo.org
SUMMARY:Pre-Auction Italian Dinner
DESCRIPTION:
URL:https://occursillo.org/event/pre-auction-italian-dinner/
LOCATION:Carter’s Residence\, 4338 Eureka Ave\, Yorba Lina\, CA\, 92886\, United States
CATEGORIES:Pre-Auction Fundraiser
END:VEVENT
BEGIN:VEVENT
DTSTART;TZID=America/Los_Angeles:20230429T120000
DTEND;TZID=America/Los_Angeles:20230429T143000
DTSTAMP:20260424T051112
CREATED:20230406T215230Z
LAST-MODIFIED:20230406T215230Z
UID:10937-1682769600-1682778600@occursillo.org
SUMMARY:Pre-Auction Ladies Tea
DESCRIPTION:
URL:https://occursillo.org/event/pre-auction-ladies-tea/
LOCATION:3031 E. Meadow Grove Rd.\, 3031 E. Meadow Grove Rd.\, Orange\, CA\, 92867\, United States
CATEGORIES:Pre-Auction Fundraiser
END:VEVENT
END:VCALENDAR