BEGIN:VCALENDAR
VERSION:2.0
PRODID:-//Orange County Cursillo - ECPv6.15.15//NONSGML v1.0//EN
CALSCALE:GREGORIAN
METHOD:PUBLISH
X-WR-CALNAME:Orange County Cursillo
X-ORIGINAL-URL:https://occursillo.org
X-WR-CALDESC:Events for Orange County Cursillo
REFRESH-INTERVAL;VALUE=DURATION:PT1H
X-Robots-Tag:noindex
X-PUBLISHED-TTL:PT1H
BEGIN:VTIMEZONE
TZID:America/Los_Angeles
BEGIN:DAYLIGHT
TZOFFSETFROM:-0800
TZOFFSETTO:-0700
TZNAME:PDT
DTSTART:20200308T100000
END:DAYLIGHT
BEGIN:STANDARD
TZOFFSETFROM:-0700
TZOFFSETTO:-0800
TZNAME:PST
DTSTART:20201101T090000
END:STANDARD
BEGIN:DAYLIGHT
TZOFFSETFROM:-0800
TZOFFSETTO:-0700
TZNAME:PDT
DTSTART:20210314T100000
END:DAYLIGHT
BEGIN:STANDARD
TZOFFSETFROM:-0700
TZOFFSETTO:-0800
TZNAME:PST
DTSTART:20211107T090000
END:STANDARD
BEGIN:DAYLIGHT
TZOFFSETFROM:-0800
TZOFFSETTO:-0700
TZNAME:PDT
DTSTART:20220313T100000
END:DAYLIGHT
BEGIN:STANDARD
TZOFFSETFROM:-0700
TZOFFSETTO:-0800
TZNAME:PST
DTSTART:20221106T090000
END:STANDARD
BEGIN:DAYLIGHT
TZOFFSETFROM:-0800
TZOFFSETTO:-0700
TZNAME:PDT
DTSTART:20230312T100000
END:DAYLIGHT
BEGIN:STANDARD
TZOFFSETFROM:-0700
TZOFFSETTO:-0800
TZNAME:PST
DTSTART:20231105T090000
END:STANDARD
BEGIN:DAYLIGHT
TZOFFSETFROM:-0800
TZOFFSETTO:-0700
TZNAME:PDT
DTSTART:20240310T100000
END:DAYLIGHT
BEGIN:STANDARD
TZOFFSETFROM:-0700
TZOFFSETTO:-0800
TZNAME:PST
DTSTART:20241103T090000
END:STANDARD
BEGIN:DAYLIGHT
TZOFFSETFROM:-0800
TZOFFSETTO:-0700
TZNAME:PDT
DTSTART:20250309T100000
END:DAYLIGHT
BEGIN:STANDARD
TZOFFSETFROM:-0700
TZOFFSETTO:-0800
TZNAME:PST
DTSTART:20251102T090000
END:STANDARD
END:VTIMEZONE
BEGIN:VEVENT
DTSTART;VALUE=DATE:20240801
DTEND;VALUE=DATE:20240805
DTSTAMP:20260424T082934
CREATED:20230816T011734Z
LAST-MODIFIED:20240322T172707Z
UID:11157-1722470400-1722815999@occursillo.org
SUMMARY:Women's Cursillo #713
DESCRIPTION:
URL:https://occursillo.org/event/womens-cursillo-2/
LOCATION:CA
CATEGORIES:Women's English
END:VEVENT
BEGIN:VEVENT
DTSTART;VALUE=DATE:20240718
DTEND;VALUE=DATE:20240722
DTSTAMP:20260424T082934
CREATED:20230816T011622Z
LAST-MODIFIED:20240322T172631Z
UID:11155-1721260800-1721606399@occursillo.org
SUMMARY:Men's Cursillo #712
DESCRIPTION:
URL:https://occursillo.org/event/mens-cursillo-2/
LOCATION:CA
CATEGORIES:Men's English
END:VEVENT
BEGIN:VEVENT
DTSTART;VALUE=DATE:20240425
DTEND;VALUE=DATE:20240429
DTSTAMP:20260424T082934
CREATED:20230816T011501Z
LAST-MODIFIED:20240304T152800Z
UID:11153-1714003200-1714348799@occursillo.org
SUMMARY:Women's Cursillo #708
DESCRIPTION:
URL:https://occursillo.org/event/womens-cursillo/
LOCATION:CA
CATEGORIES:Women's English
END:VEVENT
BEGIN:VEVENT
DTSTART;VALUE=DATE:20240411
DTEND;VALUE=DATE:20240415
DTSTAMP:20260424T082934
CREATED:20230816T011405Z
LAST-MODIFIED:20240304T152725Z
UID:11151-1712793600-1713139199@occursillo.org
SUMMARY:Men's Cursillo #707
DESCRIPTION:
URL:https://occursillo.org/event/mens-cursillo/
LOCATION:CA
CATEGORIES:Men's English
END:VEVENT
BEGIN:VEVENT
DTSTART;VALUE=DATE:20240125
DTEND;VALUE=DATE:20240129
DTSTAMP:20260424T082934
CREATED:20230816T011100Z
LAST-MODIFIED:20230816T011100Z
UID:11148-1706140800-1706486399@occursillo.org
SUMMARY:Women's Cursillo # 704
DESCRIPTION:
URL:https://occursillo.org/event/womens-cursillo-704/
LOCATION:CA
CATEGORIES:Women's English
END:VEVENT
BEGIN:VEVENT
DTSTART;VALUE=DATE:20240111
DTEND;VALUE=DATE:20240115
DTSTAMP:20260424T082934
CREATED:20230816T010948Z
LAST-MODIFIED:20230816T010948Z
UID:11146-1704931200-1705276799@occursillo.org
SUMMARY:Men's Cursillo # 703
DESCRIPTION:
URL:https://occursillo.org/event/mens-cursillo-703/
LOCATION:CA
CATEGORIES:Men's English
END:VEVENT
BEGIN:VEVENT
DTSTART;VALUE=DATE:20231102
DTEND;VALUE=DATE:20231106
DTSTAMP:20260424T082934
CREATED:20230816T010821Z
LAST-MODIFIED:20230816T010821Z
UID:11144-1698883200-1699228799@occursillo.org
SUMMARY:Women's Cursillo # 702
DESCRIPTION:
URL:https://occursillo.org/event/womens-cursillo-702/
LOCATION:CA
CATEGORIES:Women's English
END:VEVENT
BEGIN:VEVENT
DTSTART;VALUE=DATE:20231102
DTEND;VALUE=DATE:20231106
DTSTAMP:20260424T082934
CREATED:20220919T025626Z
LAST-MODIFIED:20220919T025626Z
UID:10669-1698883200-1699228799@occursillo.org
SUMMARY:Women's Cursillo: English #703
DESCRIPTION:
URL:https://occursillo.org/event/womens-cursillo-english-703/
LOCATION:Divine Word\, 11316 Cypress Ave\, Riverside\, CA\, 92505\, United States
CATEGORIES:Women's English
END:VEVENT
BEGIN:VEVENT
DTSTART;VALUE=DATE:20231019
DTEND;VALUE=DATE:20231023
DTSTAMP:20260424T082934
CREATED:20230816T004158Z
LAST-MODIFIED:20230816T004158Z
UID:11139-1697673600-1698019199@occursillo.org
SUMMARY:Men's Cursillo # 700
DESCRIPTION:
URL:https://occursillo.org/event/mens-cursillo-700/
LOCATION:Divine Word\, 11316 Cypress Ave\, Riverside\, CA\, 92505\, United States
CATEGORIES:Men's English
END:VEVENT
BEGIN:VEVENT
DTSTART;VALUE=DATE:20230803
DTEND;VALUE=DATE:20230807
DTSTAMP:20260424T082934
CREATED:20220919T025332Z
LAST-MODIFIED:20220919T025332Z
UID:10665-1691020800-1691366399@occursillo.org
SUMMARY:Women's Cursillo: English #698
DESCRIPTION:
URL:https://occursillo.org/event/womens-cursillo-english-698/
LOCATION:Divine Word\, 11316 Cypress Ave\, Riverside\, CA\, 92505\, United States
CATEGORIES:Women's English
END:VEVENT
BEGIN:VEVENT
DTSTART;VALUE=DATE:20230720
DTEND;VALUE=DATE:20230724
DTSTAMP:20260424T082934
CREATED:20220919T025118Z
LAST-MODIFIED:20220919T025118Z
UID:10663-1689811200-1690156799@occursillo.org
SUMMARY:Men's Cursillo: English #697
DESCRIPTION:
URL:https://occursillo.org/event/mens-cursillo-english-697/
LOCATION:Divine Word\, 11316 Cypress Ave\, Riverside\, CA\, 92505\, United States
CATEGORIES:Men's English
END:VEVENT
BEGIN:VEVENT
DTSTART;VALUE=DATE:20230504
DTEND;VALUE=DATE:20230508
DTSTAMP:20260424T082934
CREATED:20220919T024901Z
LAST-MODIFIED:20220919T024901Z
UID:10661-1683158400-1683503999@occursillo.org
SUMMARY:Women's Cursillo: English #692
DESCRIPTION:
URL:https://occursillo.org/event/womens-cursillo-english-692/
LOCATION:Divine Word\, 11316 Cypress Ave\, Riverside\, CA\, 92505\, United States
CATEGORIES:Women's English
END:VEVENT
BEGIN:VEVENT
DTSTART;VALUE=DATE:20230420
DTEND;VALUE=DATE:20230424
DTSTAMP:20260424T082934
CREATED:20220919T024704Z
LAST-MODIFIED:20220919T024704Z
UID:10659-1681948800-1682294399@occursillo.org
SUMMARY:Men's Cursillo: English # 691
DESCRIPTION:
URL:https://occursillo.org/event/mens-cursillo-english-691/
LOCATION:Divine Word\, 11316 Cypress Ave\, Riverside\, CA\, 92505\, United States
CATEGORIES:Men's English
END:VEVENT
BEGIN:VEVENT
DTSTART;VALUE=DATE:20230202
DTEND;VALUE=DATE:20230206
DTSTAMP:20260424T082934
CREATED:20220919T024210Z
LAST-MODIFIED:20220919T024210Z
UID:10657-1675296000-1675641599@occursillo.org
SUMMARY:Women's Cursillo: English #687
DESCRIPTION:
URL:https://occursillo.org/event/womens-cursillo-english-687/
LOCATION:Divine Word\, 11316 Cypress Ave\, Riverside\, CA\, 92505\, United States
CATEGORIES:Women's English
END:VEVENT
BEGIN:VEVENT
DTSTART;VALUE=DATE:20230119
DTEND;VALUE=DATE:20230123
DTSTAMP:20260424T082934
CREATED:20220919T023707Z
LAST-MODIFIED:20220919T024338Z
UID:10655-1674086400-1674431999@occursillo.org
SUMMARY:Men's Cursillo: English #686
DESCRIPTION:
URL:https://occursillo.org/event/mens-cursillo-english-686/
LOCATION:Divine Word\, 11316 Cypress Ave\, Riverside\, CA\, 92505\, United States
CATEGORIES:Men's English
END:VEVENT
BEGIN:VEVENT
DTSTART;VALUE=DATE:20221020
DTEND;VALUE=DATE:20221024
DTSTAMP:20260424T082934
CREATED:20220217T070137Z
LAST-MODIFIED:20220426T091427Z
UID:9833-1666224000-1666569599@occursillo.org
SUMMARY:Women’s Cursillo: English #685
DESCRIPTION:
URL:https://occursillo.org/event/womens-cursillo-english-685/
LOCATION:Divine Word\, 11316 Cypress Ave\, Riverside\, CA\, 92505\, United States
CATEGORIES:Cursillo,Women's English
END:VEVENT
BEGIN:VEVENT
DTSTART;VALUE=DATE:20221013
DTEND;VALUE=DATE:20221017
DTSTAMP:20260424T082934
CREATED:20220217T070058Z
LAST-MODIFIED:20220217T070058Z
UID:9831-1665619200-1665964799@occursillo.org
SUMMARY:Men’s Cursillo: English #684
DESCRIPTION:
URL:https://occursillo.org/event/mens-cursillo-english-684/
LOCATION:Divine Word\, 11316 Cypress Ave\, Riverside\, CA\, 92505\, United States
CATEGORIES:Cursillo,Men's English
END:VEVENT
BEGIN:VEVENT
DTSTART;VALUE=DATE:20220721
DTEND;VALUE=DATE:20220725
DTSTAMP:20260424T082934
CREATED:20220217T065422Z
LAST-MODIFIED:20220217T065422Z
UID:9829-1658361600-1658707199@occursillo.org
SUMMARY:Women’s Cursillo: English #679
DESCRIPTION:
URL:https://occursillo.org/event/womens-cursillo-english-679/
LOCATION:Divine Word\, 11316 Cypress Ave\, Riverside\, CA\, 92505\, United States
CATEGORIES:Cursillo,Women's English
END:VEVENT
BEGIN:VEVENT
DTSTART;VALUE=DATE:20220714
DTEND;VALUE=DATE:20220718
DTSTAMP:20260424T082934
CREATED:20220217T065343Z
LAST-MODIFIED:20220217T065343Z
UID:9827-1657756800-1658102399@occursillo.org
SUMMARY:Men’s Cursillo: English #678
DESCRIPTION:
URL:https://occursillo.org/event/mens-cursillo-english-678/
LOCATION:Divine Word\, 11316 Cypress Ave\, Riverside\, CA\, 92505\, United States
CATEGORIES:Cursillo,Men's English
END:VEVENT
BEGIN:VEVENT
DTSTART;VALUE=DATE:20220505
DTEND;VALUE=DATE:20220509
DTSTAMP:20260424T082934
CREATED:20220217T064724Z
LAST-MODIFIED:20220217T065103Z
UID:9819-1651708800-1652054399@occursillo.org
SUMMARY:Women's Cursillo: English #673
DESCRIPTION:
URL:https://occursillo.org/event/womens-cursillo-english-673/
LOCATION:Divine Word\, 11316 Cypress Ave\, Riverside\, CA\, 92505\, United States
CATEGORIES:Cursillo,Women's English
END:VEVENT
BEGIN:VEVENT
DTSTART;VALUE=DATE:20220421
DTEND;VALUE=DATE:20220425
DTSTAMP:20260424T082934
CREATED:20220217T064630Z
LAST-MODIFIED:20220217T065120Z
UID:9817-1650499200-1650844799@occursillo.org
SUMMARY:Men's Cursillo: English #672
DESCRIPTION:
URL:https://occursillo.org/event/mens-cursillo-english-672/
LOCATION:Divine Word\, 11316 Cypress Ave\, Riverside\, CA\, 92505\, United States
CATEGORIES:Cursillo,Men's English
END:VEVENT
BEGIN:VEVENT
DTSTART;VALUE=DATE:20211020
DTEND;VALUE=DATE:20211025
DTSTAMP:20260424T082934
CREATED:20210226T111720Z
LAST-MODIFIED:20210226T111720Z
UID:6761-1634749200-1635094799@occursillo.org
SUMMARY:English Cursillo: Women's (Subject to State & Bishop Approval)
DESCRIPTION:
URL:https://occursillo.org/event/english-cursillo-womens-subject-to-state-bishop-approval/
LOCATION:Divine Word\, 11316 Cypress Ave\, Riverside\, CA\, 92505\, United States
CATEGORIES:Cursillo,Women's English
END:VEVENT
BEGIN:VEVENT
DTSTART;VALUE=DATE:20211013
DTEND;VALUE=DATE:20211018
DTSTAMP:20260424T082934
CREATED:20210226T111643Z
LAST-MODIFIED:20210226T111643Z
UID:6759-1634144400-1634489999@occursillo.org
SUMMARY:English Cursillo: Men's (Subject to State & Bishop Approval)
DESCRIPTION:
URL:https://occursillo.org/event/english-cursillo-mens-subject-to-state-bishop-approval/
LOCATION:Divine Word\, 11316 Cypress Ave\, Riverside\, CA\, 92505\, United States
CATEGORIES:Cursillo,Men's English
END:VEVENT
BEGIN:VEVENT
DTSTART;VALUE=DATE:20210721
DTEND;VALUE=DATE:20210726
DTSTAMP:20260424T082934
CREATED:20210226T110521Z
LAST-MODIFIED:20210226T110521Z
UID:6746-1626886800-1627232399@occursillo.org
SUMMARY:English Cursillo: Women's #673 (Subject to State & Bishop Approval)
DESCRIPTION:
URL:https://occursillo.org/event/english-cursillo-womens-673-subject-to-state-bishop-approval/
LOCATION:Divine Word\, 11316 Cypress Ave\, Riverside\, CA\, 92505\, United States
CATEGORIES:Cursillo,Women's English
END:VEVENT
BEGIN:VEVENT
DTSTART;VALUE=DATE:20210714
DTEND;VALUE=DATE:20210719
DTSTAMP:20260424T082934
CREATED:20210226T110228Z
LAST-MODIFIED:20210226T110556Z
UID:6743-1626282000-1626627599@occursillo.org
SUMMARY:English Cursillo: Men's #672 (Subject to State & Bishop Approval)
DESCRIPTION:
URL:https://occursillo.org/event/mens-cursillo-672-subject-to-state-bishop-approval/
LOCATION:Divine Word\, 11316 Cypress Ave\, Riverside\, CA\, 92505\, United States
CATEGORIES:Cursillo,Men's English
END:VEVENT
END:VCALENDAR