BEGIN:VCALENDAR
VERSION:2.0
PRODID:-//Orange County Cursillo - ECPv6.15.15//NONSGML v1.0//EN
CALSCALE:GREGORIAN
METHOD:PUBLISH
X-ORIGINAL-URL:https://occursillo.org
X-WR-CALDESC:Events for Orange County Cursillo
REFRESH-INTERVAL;VALUE=DURATION:PT1H
X-Robots-Tag:noindex
X-PUBLISHED-TTL:PT1H
BEGIN:VTIMEZONE
TZID:America/Los_Angeles
BEGIN:DAYLIGHT
TZOFFSETFROM:-0800
TZOFFSETTO:-0700
TZNAME:PDT
DTSTART:20230312T100000
END:DAYLIGHT
BEGIN:STANDARD
TZOFFSETFROM:-0700
TZOFFSETTO:-0800
TZNAME:PST
DTSTART:20231105T090000
END:STANDARD
BEGIN:DAYLIGHT
TZOFFSETFROM:-0800
TZOFFSETTO:-0700
TZNAME:PDT
DTSTART:20240310T100000
END:DAYLIGHT
BEGIN:STANDARD
TZOFFSETFROM:-0700
TZOFFSETTO:-0800
TZNAME:PST
DTSTART:20241103T090000
END:STANDARD
BEGIN:DAYLIGHT
TZOFFSETFROM:-0800
TZOFFSETTO:-0700
TZNAME:PDT
DTSTART:20250309T100000
END:DAYLIGHT
BEGIN:STANDARD
TZOFFSETFROM:-0700
TZOFFSETTO:-0800
TZNAME:PST
DTSTART:20251102T090000
END:STANDARD
BEGIN:DAYLIGHT
TZOFFSETFROM:-0800
TZOFFSETTO:-0700
TZNAME:PDT
DTSTART:20260308T100000
END:DAYLIGHT
BEGIN:STANDARD
TZOFFSETFROM:-0700
TZOFFSETTO:-0800
TZNAME:PST
DTSTART:20261101T090000
END:STANDARD
END:VTIMEZONE
BEGIN:VEVENT
DTSTART;VALUE=DATE:20240528
DTEND;VALUE=DATE:20240529
DTSTAMP:20260419T090842
CREATED:20240507T123405Z
LAST-MODIFIED:20260224T160617Z
UID:11496-1716854400-1716940799@occursillo.org
SUMMARY:Palanca Reminder
DESCRIPTION:
URL:https://occursillo.org/event/palanca-reminder-18/
CATEGORIES:Palanca Reminder
END:VEVENT
BEGIN:VEVENT
DTSTART;VALUE=DATE:20240624
DTEND;VALUE=DATE:20240625
DTSTAMP:20260419T090842
CREATED:20240622T224954Z
LAST-MODIFIED:20240622T224954Z
UID:11788-1719187200-1719273599@occursillo.org
SUMMARY:Palanca Reminider
DESCRIPTION:
URL:https://occursillo.org/event/palanca-reminider/
CATEGORIES:Palanca Reminder
END:VEVENT
BEGIN:VEVENT
DTSTART;VALUE=DATE:20240730
DTEND;VALUE=DATE:20240731
DTSTAMP:20260419T090842
CREATED:20240803T030515Z
LAST-MODIFIED:20260224T160546Z
UID:11850-1722297600-1722383999@occursillo.org
SUMMARY:Palanca Reminder
DESCRIPTION:
URL:https://occursillo.org/event/palanca-reminder-19/
CATEGORIES:Palanca Reminder
END:VEVENT
BEGIN:VEVENT
DTSTART;VALUE=DATE:20240827
DTEND;VALUE=DATE:20240828
DTSTAMP:20260419T090842
CREATED:20240807T174017Z
LAST-MODIFIED:20260224T160430Z
UID:11866-1724716800-1724803199@occursillo.org
SUMMARY:Palanca Reminder
DESCRIPTION:
URL:https://occursillo.org/event/palanca-reminder-20/
CATEGORIES:Palanca Reminder
END:VEVENT
BEGIN:VEVENT
DTSTART;VALUE=DATE:20240924
DTEND;VALUE=DATE:20240925
DTSTAMP:20260419T090842
CREATED:20240919T203420Z
LAST-MODIFIED:20260224T160340Z
UID:11910-1727136000-1727222399@occursillo.org
SUMMARY:Palanca Reminder
DESCRIPTION:
URL:https://occursillo.org/event/palanca-reminder-21/
CATEGORIES:Palanca Reminder
END:VEVENT
BEGIN:VEVENT
DTSTART;VALUE=DATE:20241126
DTEND;VALUE=DATE:20241127
DTSTAMP:20260419T090842
CREATED:20241116T112201Z
LAST-MODIFIED:20241116T112201Z
UID:11960-1732579200-1732665599@occursillo.org
SUMMARY:Palanca Reminder
DESCRIPTION:
URL:https://occursillo.org/event/palanca-reminder-22/
CATEGORIES:Palanca Reminder
END:VEVENT
BEGIN:VEVENT
DTSTART;VALUE=DATE:20241231
DTEND;VALUE=DATE:20250101
DTSTAMP:20260419T090842
CREATED:20250111T030456Z
LAST-MODIFIED:20260224T160110Z
UID:11993-1735603200-1735689599@occursillo.org
SUMMARY:Palanca Reminder
DESCRIPTION:
URL:https://occursillo.org/event/palanca-reminder-23/
CATEGORIES:Palanca Reminder
END:VEVENT
BEGIN:VEVENT
DTSTART;VALUE=DATE:20250120
DTEND;VALUE=DATE:20250121
DTSTAMP:20260419T090842
CREATED:20250120T213716Z
LAST-MODIFIED:20260224T155920Z
UID:11997-1737331200-1737417599@occursillo.org
SUMMARY:Palanca Reminder
DESCRIPTION:
URL:https://occursillo.org/event/palanca-reminder-24/
CATEGORIES:Palanca Reminder
END:VEVENT
BEGIN:VEVENT
DTSTART;VALUE=DATE:20250429
DTEND;VALUE=DATE:20250430
DTSTAMP:20260419T090842
CREATED:20250404T012502Z
LAST-MODIFIED:20260224T143341Z
UID:12091-1745884800-1745971199@occursillo.org
SUMMARY:Palanca Reminder
DESCRIPTION:
URL:https://occursillo.org/event/palanca-reminder-25/
CATEGORIES:Palanca Reminder
END:VEVENT
BEGIN:VEVENT
DTSTART;VALUE=DATE:20250528
DTEND;VALUE=DATE:20250529
DTSTAMP:20260419T090842
CREATED:20250521T010614Z
LAST-MODIFIED:20260224T143220Z
UID:12142-1748390400-1748476799@occursillo.org
SUMMARY:May Palanca Reminder
DESCRIPTION:
URL:https://occursillo.org/event/may-palanca-reminder/
CATEGORIES:Palanca Reminder
END:VEVENT
BEGIN:VEVENT
DTSTART;VALUE=DATE:20250624
DTEND;VALUE=DATE:20250625
DTSTAMP:20260419T090842
CREATED:20250620T230250Z
LAST-MODIFIED:20260224T142842Z
UID:12184-1750723200-1750809599@occursillo.org
SUMMARY:Palanca Reminder
DESCRIPTION:
URL:https://occursillo.org/event/palanca-reminder-26/
CATEGORIES:Palanca Reminder
END:VEVENT
BEGIN:VEVENT
DTSTART;VALUE=DATE:20250723
DTEND;VALUE=DATE:20250724
DTSTAMP:20260419T090842
CREATED:20250723T025220Z
LAST-MODIFIED:20260224T142731Z
UID:12209-1753228800-1753315199@occursillo.org
SUMMARY:Palanca Reminder
DESCRIPTION:
URL:https://occursillo.org/event/palanca-reminder-27/
CATEGORIES:Palanca Reminder
END:VEVENT
END:VCALENDAR