BEGIN:VCALENDAR
VERSION:2.0
PRODID:-//Orange County Cursillo - ECPv6.15.15//NONSGML v1.0//EN
CALSCALE:GREGORIAN
METHOD:PUBLISH
X-ORIGINAL-URL:https://occursillo.org
X-WR-CALDESC:Events for Orange County Cursillo
REFRESH-INTERVAL;VALUE=DURATION:PT1H
X-Robots-Tag:noindex
X-PUBLISHED-TTL:PT1H
BEGIN:VTIMEZONE
TZID:America/Los_Angeles
BEGIN:DAYLIGHT
TZOFFSETFROM:-0800
TZOFFSETTO:-0700
TZNAME:PDT
DTSTART:20250309T100000
END:DAYLIGHT
BEGIN:STANDARD
TZOFFSETFROM:-0700
TZOFFSETTO:-0800
TZNAME:PST
DTSTART:20251102T090000
END:STANDARD
BEGIN:DAYLIGHT
TZOFFSETFROM:-0800
TZOFFSETTO:-0700
TZNAME:PDT
DTSTART:20260308T100000
END:DAYLIGHT
BEGIN:STANDARD
TZOFFSETFROM:-0700
TZOFFSETTO:-0800
TZNAME:PST
DTSTART:20261101T090000
END:STANDARD
BEGIN:DAYLIGHT
TZOFFSETFROM:-0800
TZOFFSETTO:-0700
TZNAME:PDT
DTSTART:20270314T100000
END:DAYLIGHT
BEGIN:STANDARD
TZOFFSETFROM:-0700
TZOFFSETTO:-0800
TZNAME:PST
DTSTART:20271107T090000
END:STANDARD
END:VTIMEZONE
BEGIN:VEVENT
DTSTART;TZID=America/Los_Angeles:20260328T181500
DTEND;TZID=America/Los_Angeles:20260328T210000
DTSTAMP:20260420T131832
CREATED:20260131T224653Z
LAST-MODIFIED:20260211T032156Z
UID:12405-1774721700-1774731600@occursillo.org
SUMMARY:Ultreya San Antonio de Padua
DESCRIPTION:
URL:https://occursillo.org/event/ultreya-san-antonio-de-padua-3/
LOCATION:San Antonio de Padua\, 5800 E Santa Ana Canyon Rd\, Anaheim\, CA\, 92807\, United States
CATEGORIES:Ultreya
END:VEVENT
END:VCALENDAR