BEGIN:VCALENDAR
VERSION:2.0
PRODID:-//Orange County Cursillo - ECPv6.15.15//NONSGML v1.0//EN
CALSCALE:GREGORIAN
METHOD:PUBLISH
X-WR-CALNAME:Orange County Cursillo
X-ORIGINAL-URL:https://occursillo.org
X-WR-CALDESC:Events for Orange County Cursillo
REFRESH-INTERVAL;VALUE=DURATION:PT1H
X-Robots-Tag:noindex
X-PUBLISHED-TTL:PT1H
BEGIN:VTIMEZONE
TZID:America/Los_Angeles
BEGIN:DAYLIGHT
TZOFFSETFROM:-0800
TZOFFSETTO:-0700
TZNAME:PDT
DTSTART:20200308T100000
END:DAYLIGHT
BEGIN:STANDARD
TZOFFSETFROM:-0700
TZOFFSETTO:-0800
TZNAME:PST
DTSTART:20201101T090000
END:STANDARD
BEGIN:DAYLIGHT
TZOFFSETFROM:-0800
TZOFFSETTO:-0700
TZNAME:PDT
DTSTART:20210314T100000
END:DAYLIGHT
BEGIN:STANDARD
TZOFFSETFROM:-0700
TZOFFSETTO:-0800
TZNAME:PST
DTSTART:20211107T090000
END:STANDARD
BEGIN:DAYLIGHT
TZOFFSETFROM:-0800
TZOFFSETTO:-0700
TZNAME:PDT
DTSTART:20220313T100000
END:DAYLIGHT
BEGIN:STANDARD
TZOFFSETFROM:-0700
TZOFFSETTO:-0800
TZNAME:PST
DTSTART:20221106T090000
END:STANDARD
BEGIN:DAYLIGHT
TZOFFSETFROM:-0800
TZOFFSETTO:-0700
TZNAME:PDT
DTSTART:20230312T100000
END:DAYLIGHT
BEGIN:STANDARD
TZOFFSETFROM:-0700
TZOFFSETTO:-0800
TZNAME:PST
DTSTART:20231105T090000
END:STANDARD
BEGIN:DAYLIGHT
TZOFFSETFROM:-0800
TZOFFSETTO:-0700
TZNAME:PDT
DTSTART:20240310T100000
END:DAYLIGHT
BEGIN:STANDARD
TZOFFSETFROM:-0700
TZOFFSETTO:-0800
TZNAME:PST
DTSTART:20241103T090000
END:STANDARD
BEGIN:DAYLIGHT
TZOFFSETFROM:-0800
TZOFFSETTO:-0700
TZNAME:PDT
DTSTART:20250309T100000
END:DAYLIGHT
BEGIN:STANDARD
TZOFFSETFROM:-0700
TZOFFSETTO:-0800
TZNAME:PST
DTSTART:20251102T090000
END:STANDARD
END:VTIMEZONE
BEGIN:VEVENT
DTSTART;TZID=America/Los_Angeles:20240928T184500
DTEND;TZID=America/Los_Angeles:20240928T210000
DTSTAMP:20260421T122228
CREATED:20240918T173839Z
LAST-MODIFIED:20260224T160314Z
UID:11903-1727549100-1727557200@occursillo.org
SUMMARY:Multi-Cultural Ultreya
DESCRIPTION:
URL:https://occursillo.org/event/multi-cultural-ultreya/
LOCATION:St. Martin de Porres\, 19767 Yorba Linda Blvd\, Yorba Linda\, CA\, 92886\, United States
CATEGORIES:Multicultural
END:VEVENT
BEGIN:VEVENT
DTSTART;TZID=America/Los_Angeles:20230414T190000
DTEND;TZID=America/Los_Angeles:20230414T210000
DTSTAMP:20260421T122228
CREATED:20230319T150241Z
LAST-MODIFIED:20260224T163225Z
UID:10905-1681498800-1681506000@occursillo.org
SUMMARY:Multicultural Ultreya
DESCRIPTION:
URL:https://occursillo.org/event/multicultural-ultreya/
LOCATION:St Joseph Scchool Hall\, 608 Civic Center Dr.\, Santa Ana\, 92701
CATEGORIES:Multicultural,Ultreya
END:VEVENT
BEGIN:VEVENT
DTSTART;TZID=America/Los_Angeles:20220402T180000
DTEND;TZID=America/Los_Angeles:20220402T203000
DTSTAMP:20260421T122228
CREATED:20220326T104843Z
LAST-MODIFIED:20220326T104843Z
UID:10103-1648922400-1648931400@occursillo.org
SUMMARY:Multicultural Ultreya - April 2 (San Antonio de Padua)
DESCRIPTION:
URL:https://occursillo.org/event/multicultural-ultreya-april-2-san-antonio-de-padua/
LOCATION:San Antonio de Padua\, 5800 E Santa Ana Canyon Rd\, Anaheim\, CA\, 92807\, United States
CATEGORIES:Multicultural,Ultreya
END:VEVENT
BEGIN:VEVENT
DTSTART;TZID=America/Los_Angeles:20210910T193000
DTEND;TZID=America/Los_Angeles:20210910T210000
DTSTAMP:20260421T122228
CREATED:20210806T060701Z
LAST-MODIFIED:20210806T060701Z
UID:8990-1631302200-1631307600@occursillo.org
SUMMARY:Multicultural Ultreya: St. Anthony Mary Claret (Sep 10)
DESCRIPTION:
URL:https://occursillo.org/event/multicultural-ultreya-st-anthony-mary-claret-sep-10/
LOCATION:St. Anthony Mary Claret\, 1450 E La Palma Ave\, Anaheim\, CA\, 92805\, United States
CATEGORIES:Multicultural
END:VEVENT
END:VCALENDAR